BEGIN:VCALENDAR
VERSION:2.0
PRODID:-//gulf2coast - ECPv6.15.20//NONSGML v1.0//EN
CALSCALE:GREGORIAN
METHOD:PUBLISH
X-WR-CALNAME:gulf2coast
X-ORIGINAL-URL:https://gulf2coast.com
X-WR-CALDESC:Events for gulf2coast
REFRESH-INTERVAL;VALUE=DURATION:PT1H
X-Robots-Tag:noindex
X-PUBLISHED-TTL:PT1H
BEGIN:VTIMEZONE
TZID:America/New_York
BEGIN:DAYLIGHT
TZOFFSETFROM:-0500
TZOFFSETTO:-0400
TZNAME:EDT
DTSTART:20250309T070000
END:DAYLIGHT
BEGIN:STANDARD
TZOFFSETFROM:-0400
TZOFFSETTO:-0500
TZNAME:EST
DTSTART:20251102T060000
END:STANDARD
BEGIN:DAYLIGHT
TZOFFSETFROM:-0500
TZOFFSETTO:-0400
TZNAME:EDT
DTSTART:20260308T070000
END:DAYLIGHT
BEGIN:STANDARD
TZOFFSETFROM:-0400
TZOFFSETTO:-0500
TZNAME:EST
DTSTART:20261101T060000
END:STANDARD
BEGIN:DAYLIGHT
TZOFFSETFROM:-0500
TZOFFSETTO:-0400
TZNAME:EDT
DTSTART:20270314T070000
END:DAYLIGHT
BEGIN:STANDARD
TZOFFSETFROM:-0400
TZOFFSETTO:-0500
TZNAME:EST
DTSTART:20271107T060000
END:STANDARD
END:VTIMEZONE
BEGIN:VEVENT
DTSTART;TZID=America/New_York:20260413T160000
DTEND;TZID=America/New_York:20260413T190000
DTSTAMP:20260421T061021
CREATED:20251228T223605Z
LAST-MODIFIED:20260319T200542Z
UID:10184419-1776096000-1776106800@gulf2coast.com
SUMMARY:HAPPY HOUR @ Taco Agave (Pensacola)
DESCRIPTION:Happy Hour.  Monday-Friday. Pensacola.\n\n	\n		\n	\n		6 events found.	\n	\n		\n	\n\n		\n	\n\n		\n	\n\n	\n\n\n		\n		\n\n		\n		\n\n	\n	Events\n\n	\n	\n	\n\n	\n		Views Navigation	\n\n	\n	\n	\n		Event Views Navigation	\n	\n		\n			\n				\n	\n\n			\n			\n				Summary			\n			\n	\n\n		\n		\n	\n					\n	\n		\n			\n	\n	\n		\n		\n	\n	\n			\n		\n	\n	\n		\n			\n		\n		\n			\n		\n	\n\n		\n		\n			List		\n	\n\n					\n	\n		\n			\n	\n\n		\n		\n			Day		\n	\n\n					\n	\n		\n			\n	\n\n		\n		\n			Summary		\n	\n\n			\n\n	\n\n\n\n\n	\n\n	\n	\n		\n	\n		\n	\n\n	\n\n\n		\n	\n		\n	\n\n	\n\n	\n\n\n	\n	Today\n\n	\n	\n		\n							\n					Now				\n				\n					Now				\n					\n					 - \n			\n				\n					4/28/2026				\n				\n					April 28				\n			\n				\n	\n\n	\n	\n		Select date.	\n	\n	\n	\n		\n	\n\n	\n	\n		\n	\n\n	\n\n\n	\n	\n	\n	\n	\n		Condense Events Series	\n\n\n\n\n\n\n		\n		\n\n							\n									\n					\n				\n				\n	\n		Apr 2026	\n\n\n										\n				\n				\n	\n	\n		\n			\n				Tue			\n			\n			21			\n		\n	\n\n	\n								\n	\n\n		\n			\n	\n					\n	4:00 pm\n- \n	7:00 pm\n			\n		\n\n	\n		\n\n	\n	\n	\n\n	\n\n\n				\n				\n			HAPPY HOUR @ Taco Agave (Pensacola)		\n	\n					\n\n	\n\n			\n\n\n\n											\n				\n				\n				\n				\n	\n	\n		\n			\n				Wed			\n			\n			22			\n		\n	\n\n	\n								\n	\n\n		\n			\n	\n					\n	4:00 pm\n- \n	7:00 pm\n			\n		\n\n	\n		\n\n	\n	\n	\n\n	\n\n\n				\n				\n			HAPPY HOUR @ Taco Agave (Pensacola)		\n	\n					\n\n	\n\n			\n\n\n\n											\n				\n				\n				\n				\n	\n	\n		\n			\n				Thu			\n			\n			23			\n		\n	\n\n	\n								\n	\n\n		\n			\n	\n					\n	4:00 pm\n- \n	7:00 pm\n			\n		\n\n	\n		\n\n	\n	\n	\n\n	\n\n\n				\n				\n			HAPPY HOUR @ Taco Agave (Pensacola)		\n	\n					\n\n	\n\n			\n\n\n\n											\n				\n				\n				\n				\n	\n	\n		\n			\n				Fri			\n			\n			24			\n		\n	\n\n	\n								\n	\n\n		\n			\n	\n					\n	4:00 pm\n- \n	7:00 pm\n			\n		\n\n	\n		\n\n	\n	\n	\n\n	\n\n\n				\n				\n			HAPPY HOUR @ Taco Agave (Pensacola)		\n	\n					\n\n	\n\n			\n\n\n\n											\n				\n				\n				\n				\n	\n	\n		\n			\n				Mon			\n			\n			27			\n		\n	\n\n	\n								\n	\n\n		\n			\n	\n					\n	4:00 pm\n- \n	7:00 pm\n			\n		\n\n	\n		\n\n	\n	\n	\n\n	\n\n\n				\n				\n			HAPPY HOUR @ Taco Agave (Pensacola)		\n	\n					\n\n	\n\n			\n\n\n\n											\n				\n				\n				\n				\n	\n	\n		\n			\n				Tue			\n			\n			28			\n		\n	\n\n	\n								\n	\n\n		\n			\n	\n					\n	4:00 pm\n- \n	7:00 pm\n			\n		\n\n	\n		\n\n	\n	\n	\n\n	\n\n\n				\n				\n			HAPPY HOUR @ Taco Agave (Pensacola)		\n	\n					\n\n	\n\n			\n\n\n\n											\n			\n		\n\n		\n	\n		\n	\n		\n	\n\n		\n			Previous Events		\n	\n\n\n		\n	\n		Today	\n\n\n		\n	\n		\n			Next Events		\n		\n	\n\n	\n\n	\n\n\n		\n	\n		\n			\n				Subscribe to calendar			\n			\n	\n\n		\n		\n			\n									\n\n	\n		Google Calendar	\n\n									\n\n	\n		iCalendar	\n\n									\n\n	\n		Outlook 365	\n\n									\n\n	\n		Outlook Live	\n\n									\n\n	\n		Export .ics file	\n\n									\n\n	\n		Export Outlook .ics file
URL:https://gulf2coast.com/event/happy-hour-taco-agave-pensacola/2026-04-13/
LOCATION:Agave (Pensacola)\, 200 S Palafox St\, Pensacola\, Florida\, 32502
CATEGORIES:* THE FLORIDA PANHANDLE,EMERALD COAST,Escambia County
ATTACH;FMTTYPE=image/jpeg:https://gulf2coast.com/wp-content/uploads/2023/03/event-agave-pensacola.jpg
END:VEVENT
BEGIN:VEVENT
DTSTART;TZID=America/New_York:20260413T190000
DTEND;TZID=America/New_York:20260413T233000
DTSTAMP:20260421T061021
CREATED:20260323T030129Z
LAST-MODIFIED:20260323T030959Z
UID:10251361-1776106800-1776123000@gulf2coast.com
SUMMARY:Karaoke @ Sir Richard's Public House (Pensacola)
DESCRIPTION:Karaoke.  Mondays\, Tuesdays & Thursdays.  Pensacola. \n\n	\n		\n	\n		6 events found.	\n	\n		\n	\n\n		\n	\n\n		\n	\n\n	\n\n\n		\n		\n\n		\n		\n\n	\n	Events\n\n	\n	\n	\n	\n\n	\n	\n		\n	\n		\n	\n\n	\n\n\n		\n	\n		\n	\n\n	\n\n	\n\n\n	\n	Today\n\n	\n	\n		\n							\n					Now				\n				\n					Now				\n					\n					 - \n			\n				\n					5/11/2026				\n				\n					May 11				\n			\n				\n	\n\n	\n	\n		Select date.	\n	\n	\n	\n		\n	\n\n	\n	\n		\n	\n\n	\n\n\n	\n	\n	\n	\n	\n		Condense Events Series	\n\n\n\n\n\n\n		\n		\n\n							\n									\n					\n				\n				\n	\n		Apr 2026	\n\n\n										\n				\n				\n	\n	\n		\n			\n				Sun			\n			\n			26			\n		\n	\n\n	\n								\n	\n\n		\n			\n	\n					\n	8:00 pm\n- \n	10:00 pm\n			\n		\n\n	\n		\n\n	\n	\n	\n\n	\n\n\n				\n				\n			Music Bingo @ Sir Richard’s Public House (Pensacola)		\n	\n					\n\n	\n\n			\n\n\n\n											\n				\n				\n				\n				\n	\n	\n		\n			\n				Mon			\n			\n			27			\n		\n	\n\n	\n								\n	\n\n		\n			\n	\n					\n	7:00 pm\n- \n	11:30 pm\n			\n		\n\n	\n		\n\n	\n	\n	\n\n	\n\n\n				\n				\n			Karaoke @ Sir Richard’s Public House (Pensacola)		\n	\n					\n\n	\n\n			\n\n\n\n											\n															\n					\n					\n					\n				\n				\n	\n		May 2026	\n\n\n										\n				\n				\n	\n	\n		\n			\n				Sun			\n			\n			3			\n		\n	\n\n	\n								\n	\n\n		\n			\n	\n					\n	8:00 pm\n- \n	10:00 pm\n			\n		\n\n	\n		\n\n	\n	\n	\n\n	\n\n\n				\n				\n			Music Bingo @ Sir Richard’s Public House (Pensacola)		\n	\n					\n\n	\n\n			\n\n\n\n											\n				\n				\n				\n				\n	\n	\n		\n			\n				Mon			\n			\n			4			\n		\n	\n\n	\n								\n	\n\n		\n			\n	\n					\n	7:00 pm\n- \n	11:30 pm\n			\n		\n\n	\n		\n\n	\n	\n	\n\n	\n\n\n				\n				\n			Karaoke @ Sir Richard’s Public House (Pensacola)		\n	\n					\n\n	\n\n			\n\n\n\n											\n				\n				\n				\n				\n	\n	\n		\n			\n				Sun			\n			\n			10			\n		\n	\n\n	\n								\n	\n\n		\n			\n	\n					\n	8:00 pm\n- \n	10:00 pm\n			\n		\n\n	\n		\n\n	\n	\n	\n\n	\n\n\n				\n				\n			Music Bingo @ Sir Richard’s Public House (Pensacola)		\n	\n					\n\n	\n\n			\n\n\n\n											\n				\n				\n				\n				\n	\n	\n		\n			\n				Mon			\n			\n			11			\n		\n	\n\n	\n								\n	\n\n		\n			\n	\n					\n	7:00 pm\n- \n	11:30 pm\n			\n		\n\n	\n		\n\n	\n	\n	\n\n	\n\n\n				\n				\n			Karaoke @ Sir Richard’s Public House (Pensacola)		\n	\n					\n\n	\n\n			\n\n\n\n											\n			\n		\n\n		\n	\n		\n	\n		\n	\n\n		\n			Previous Events		\n	\n\n\n		\n	\n		Today	\n\n\n		\n	\n		\n			Next Events		\n		\n	\n\n	\n\n	\n\n\n		\n	\n		\n			\n				Subscribe to calendar			\n			\n	\n\n		\n		\n			\n									\n\n	\n		Google Calendar	\n\n									\n\n	\n		iCalendar	\n\n									\n\n	\n		Outlook 365	\n\n									\n\n	\n		Outlook Live	\n\n									\n\n	\n		Export .ics file	\n\n									\n\n	\n		Export Outlook .ics file
URL:https://gulf2coast.com/event/karaoke-sir-richards-public-house-pensacola-2/2026-04-13/
LOCATION:Sir Richard’s Public House (Pensacola)\, 2719 East Cervantes Street\, Pensacola\, FL\, United States
CATEGORIES:* THE FLORIDA PANHANDLE,EMERALD COAST,Escambia County
ATTACH;FMTTYPE=image/jpeg:https://gulf2coast.com/wp-content/uploads/2024/04/event-sir-richards-public-house-pensacola-2.jpg
END:VEVENT
END:VCALENDAR