BEGIN:VCALENDAR
VERSION:2.0
PRODID:-//gulf2coast - ECPv6.15.20//NONSGML v1.0//EN
CALSCALE:GREGORIAN
METHOD:PUBLISH
X-WR-CALNAME:gulf2coast
X-ORIGINAL-URL:https://gulf2coast.com
X-WR-CALDESC:Events for gulf2coast
REFRESH-INTERVAL;VALUE=DURATION:PT1H
X-Robots-Tag:noindex
X-PUBLISHED-TTL:PT1H
BEGIN:VTIMEZONE
TZID:America/New_York
BEGIN:DAYLIGHT
TZOFFSETFROM:-0500
TZOFFSETTO:-0400
TZNAME:EDT
DTSTART:20250309T070000
END:DAYLIGHT
BEGIN:STANDARD
TZOFFSETFROM:-0400
TZOFFSETTO:-0500
TZNAME:EST
DTSTART:20251102T060000
END:STANDARD
BEGIN:DAYLIGHT
TZOFFSETFROM:-0500
TZOFFSETTO:-0400
TZNAME:EDT
DTSTART:20260308T070000
END:DAYLIGHT
BEGIN:STANDARD
TZOFFSETFROM:-0400
TZOFFSETTO:-0500
TZNAME:EST
DTSTART:20261101T060000
END:STANDARD
BEGIN:DAYLIGHT
TZOFFSETFROM:-0500
TZOFFSETTO:-0400
TZNAME:EDT
DTSTART:20270314T070000
END:DAYLIGHT
BEGIN:STANDARD
TZOFFSETFROM:-0400
TZOFFSETTO:-0500
TZNAME:EST
DTSTART:20271107T060000
END:STANDARD
END:VTIMEZONE
BEGIN:VEVENT
DTSTART;VALUE=DATE:20261031
DTEND;VALUE=DATE:20261101
DTSTAMP:20260423T090356
CREATED:20250112T023624Z
LAST-MODIFIED:20260115T215614Z
UID:10018991-1793404800-1793491199@gulf2coast.com
SUMMARY:👻🎃HAPPY HALLOWEEN🎃👻
DESCRIPTION:4 events found.	\n	\n		\n	\n\n		\n	\n\n		\n	\n\n	\n\n\n		\n		\n\n		\n		\n\n	\n	Events\n\n	\n	\n	\n\n	\n		Views Navigation	\n\n	\n	\n	\n		Event Views Navigation	\n	\n		\n			\n				\n	\n\n			\n			\n				Summary			\n			\n	\n\n		\n		\n	\n					\n	\n		\n			\n	\n	\n		\n		\n	\n	\n			\n		\n	\n	\n		\n			\n		\n		\n			\n		\n	\n\n		\n		\n			List		\n	\n\n					\n	\n		\n			\n	\n\n		\n		\n			Day		\n	\n\n					\n	\n		\n			\n	\n\n		\n		\n			Summary		\n	\n\n			\n\n	\n\n\n\n\n	\n\n	\n	\n		\n	\n		\n	\n\n	\n\n\n		\n	\n		\n	\n\n	\n\n	\n\n\n	\n	Today\n\n	\n	\n		\n							\n					Upcoming				\n				\n					Upcoming				\n					\n				\n	\n\n	\n	\n		Select date.	\n	\n	\n	\n		\n	\n\n	\n	\n		\n	\n\n	\n\n\n	\n	\n	\n	\n	\n		Condense Events Series	\n\n\n\n\n\n\n		\n		\n\n											\n															\n					\n					\n					\n				\n				\n										\n				\n				\n	\n	\n		\n			\n				Thu			\n			\n			1			\n		\n	\n\n	\n								\n	\n\n		\n			\n	\n					\n	Until 2:30 am\n			\n		\n\n	\n		\n\n	\n	\n	\n\n	\n\n\n				\n				\n			LATE NIGHT… NOW WHAT?		\n	\n					\n\n	\n\n								\n	\n\n		\n			\n	\n					\n	Until 3:00 am\n			\n		\n\n	\n		\n\n	\n	\n	\n\n	\n\n\n				\n				\n			FLORIDA. FUN. FOUND.		\n	\n					\n\n	\n\n								\n	\n\n		\n			\n	\n					\n	1:00 am\n- \n	11:30 pm\n			\n		\n\n	\n		\n\n	\n	\n	\n\n	\n\n\n				\n				\n			It’s OCTOBER!		\n	\n					\n\n	\n\n			\n\n\n\n											\n				\n				\n				\n				\n	\n	\n		\n			\n				Sat			\n			\n			17			\n		\n	\n\n	\n								\n	\n\n		\n			\n	\n					\n	9:30 am\n- \n	4:00 pm\n			\n		\n\n	\n		\n\n	\n	\n	\n\n	\n\n\n				\n		\n	\n	\n\n\n\n	Featured\n		\n			Howl-O-Ween & Downtown Doxie Dash @ Barron Park (LaBelle)		\n	\n					\n\n	\n\n			\n\n\n\n											\n				\n				\n				\n				\n	\n	\n		\n			\n				Sat			\n			\n			31			\n		\n	\n\n	\n								\n	\n\n		\n			\n	\n					\n	All day\n			\n		\n\n	\n		\n\n	\n	\n	\n\n	\n\n\n				\n				\n			👻🎃HAPPY HALLOWEEN🎃👻		\n	\n					\n\n	\n\n								\n	\n\n		\n			\n	\n					\n	7:00 pm\n- \n	11:00 pm\n			\n		\n\n	\n		\n\n	\n	\n	\n\n	\n\n\n				\n				\n			HALLOWEEN BASH @ Ka’ Tiki (Treasure Island)		\n	\n					\n\n	\n\n			\n\n\n\n											\n			\n		\n\n		\n	\n		\n	\n		\n	\n\n		\n			Previous Events		\n	\n\n\n		\n	\n		Today	\n\n\n		\n	\n		\n			Next Events		\n		\n	\n\n	\n\n	\n\n\n		\n	\n		\n			\n				Subscribe to calendar			\n			\n	\n\n		\n		\n			\n									\n\n	\n		Google Calendar	\n\n									\n\n	\n		iCalendar	\n\n									\n\n	\n		Outlook 365	\n\n									\n\n	\n		Outlook Live	\n\n									\n\n	\n		Export .ics file	\n\n									\n\n	\n		Export Outlook .ics file
URL:https://gulf2coast.com/event/halloween-events-florida/
LOCATION:FL
CATEGORIES:* CENTRAL FLORIDA,* EAST CENTRAL FLORIDA,* NORTH CENTRAL FLORIDA,* SOUTHEAST FLORIDA,* SOUTHWEST FLORIDA,* THE FIRST COAST,* THE FLORIDA PANHANDLE,* WEST CENTRAL FLORIDA,Alachua County,Baker County,Bay County,Brevard County,Broward County,Citrus County,Clay County,Collier County,CULTURAL COAST,DeSoto County,Duval County,EMERALD COAST,Escambia County,Flagler County,FLORIDA HEARTLAND,FORGOTTEN COAST,Franklin County,FUN COAST #386,Glades County,GOLD COAST,Golden Triangle,Hardee County,Hendry County,Hernando County,Highlands County,Hillsborough County,Holmes County,Lake County,Lee County,LEE ISLAND COAST,Levy County,Levy County,Marion County,Martin County,Miami-Dade County,Monroe County,NATURE COAST,Northwest Lake County,Ocala Forest Gateway,Okaloosa County,Okeechobee County,Orange County,Osceola County,Palm Beach County,PARADISE COAST,Pinellas County,Polk County,Sarasota County,Seminole County,South Lake County,SPACE COAST,St Johns County,Sumter County,SUN COAST,THE FLORIDA KEYS,TREASURE COAST,Union County,Volusia County,Wakulla County
END:VEVENT
END:VCALENDAR