BEGIN:VCALENDAR
VERSION:2.0
PRODID:-//gulf2coast - ECPv6.15.20//NONSGML v1.0//EN
CALSCALE:GREGORIAN
METHOD:PUBLISH
X-WR-CALNAME:gulf2coast
X-ORIGINAL-URL:https://gulf2coast.com
X-WR-CALDESC:Events for gulf2coast
REFRESH-INTERVAL;VALUE=DURATION:PT1H
X-Robots-Tag:noindex
X-PUBLISHED-TTL:PT1H
BEGIN:VTIMEZONE
TZID:America/New_York
BEGIN:DAYLIGHT
TZOFFSETFROM:-0500
TZOFFSETTO:-0400
TZNAME:EDT
DTSTART:20250309T070000
END:DAYLIGHT
BEGIN:STANDARD
TZOFFSETFROM:-0400
TZOFFSETTO:-0500
TZNAME:EST
DTSTART:20251102T060000
END:STANDARD
BEGIN:DAYLIGHT
TZOFFSETFROM:-0500
TZOFFSETTO:-0400
TZNAME:EDT
DTSTART:20260308T070000
END:DAYLIGHT
BEGIN:STANDARD
TZOFFSETFROM:-0400
TZOFFSETTO:-0500
TZNAME:EST
DTSTART:20261101T060000
END:STANDARD
BEGIN:DAYLIGHT
TZOFFSETFROM:-0500
TZOFFSETTO:-0400
TZNAME:EDT
DTSTART:20270314T070000
END:DAYLIGHT
BEGIN:STANDARD
TZOFFSETFROM:-0400
TZOFFSETTO:-0500
TZNAME:EST
DTSTART:20271107T060000
END:STANDARD
END:VTIMEZONE
BEGIN:VEVENT
DTSTART;TZID=America/New_York:20260413T190000
DTEND;TZID=America/New_York:20260413T210000
DTSTAMP:20260420T103904
CREATED:20260323T023939Z
LAST-MODIFIED:20260323T024236Z
UID:10251277-1776106800-1776114000@gulf2coast.com
SUMMARY:TRIVIA @ Dade City Brew House (Dade City)
DESCRIPTION:Trivia.  Monday.  Dade City. \n\n	\n		\n	\n		6 events found.	\n	\n		\n	\n\n		\n	\n\n		\n	\n\n	\n\n\n		\n		\n\n		\n		\n\n	\n	Events\n\n	\n	\n	\n	\n\n	\n	\n		\n	\n		\n	\n\n	\n\n\n		\n	\n		\n	\n\n	\n\n	\n\n\n	\n	Today\n\n	\n	\n		\n							\n					Now				\n				\n					Now				\n					\n					 - \n			\n				\n					5/25/2026				\n				\n					May 25				\n			\n				\n	\n\n	\n	\n		Select date.	\n	\n	\n	\n		\n	\n\n	\n	\n		\n	\n\n	\n\n\n	\n	\n	\n	\n	\n		Condense Events Series	\n\n\n\n\n\n\n		\n		\n\n							\n									\n					\n				\n				\n	\n		Apr 2026	\n\n\n										\n				\n				\n	\n	\n		\n			\n				Mon			\n			\n			20			\n		\n	\n\n	\n								\n	\n\n		\n			\n	\n					\n	7:00 pm\n- \n	9:00 pm\n			\n		\n\n	\n		\n\n	\n	\n	\n\n	\n\n\n				\n		\n	\n	\n\n\n\n	Featured\n		\n			TRIVIA @ Dade City Brew House (Dade City)		\n	\n					\n\n	\n\n			\n\n\n\n											\n				\n				\n				\n				\n	\n	\n		\n			\n				Mon			\n			\n			27			\n		\n	\n\n	\n								\n	\n\n		\n			\n	\n					\n	7:00 pm\n- \n	9:00 pm\n			\n		\n\n	\n		\n\n	\n	\n	\n\n	\n\n\n				\n		\n	\n	\n\n\n\n	Featured\n		\n			TRIVIA @ Dade City Brew House (Dade City)		\n	\n					\n\n	\n\n			\n\n\n\n											\n															\n					\n					\n					\n				\n				\n	\n		May 2026	\n\n\n										\n				\n				\n	\n	\n		\n			\n				Mon			\n			\n			4			\n		\n	\n\n	\n								\n	\n\n		\n			\n	\n					\n	7:00 pm\n- \n	9:00 pm\n			\n		\n\n	\n		\n\n	\n	\n	\n\n	\n\n\n				\n		\n	\n	\n\n\n\n	Featured\n		\n			TRIVIA @ Dade City Brew House (Dade City)		\n	\n					\n\n	\n\n			\n\n\n\n											\n				\n				\n				\n				\n	\n	\n		\n			\n				Mon			\n			\n			11			\n		\n	\n\n	\n								\n	\n\n		\n			\n	\n					\n	7:00 pm\n- \n	9:00 pm\n			\n		\n\n	\n		\n\n	\n	\n	\n\n	\n\n\n				\n		\n	\n	\n\n\n\n	Featured\n		\n			TRIVIA @ Dade City Brew House (Dade City)		\n	\n					\n\n	\n\n			\n\n\n\n											\n				\n				\n				\n				\n	\n	\n		\n			\n				Mon			\n			\n			18			\n		\n	\n\n	\n								\n	\n\n		\n			\n	\n					\n	7:00 pm\n- \n	9:00 pm\n			\n		\n\n	\n		\n\n	\n	\n	\n\n	\n\n\n				\n		\n	\n	\n\n\n\n	Featured\n		\n			TRIVIA @ Dade City Brew House (Dade City)		\n	\n					\n\n	\n\n			\n\n\n\n											\n				\n				\n				\n				\n	\n	\n		\n			\n				Mon			\n			\n			25			\n		\n	\n\n	\n								\n	\n\n		\n			\n	\n					\n	7:00 pm\n- \n	9:00 pm\n			\n		\n\n	\n		\n\n	\n	\n	\n\n	\n\n\n				\n		\n	\n	\n\n\n\n	Featured\n		\n			TRIVIA @ Dade City Brew House (Dade City)		\n	\n					\n\n	\n\n			\n\n\n\n											\n			\n		\n\n		\n	\n		\n	\n		\n	\n\n		\n			Previous Events		\n	\n\n\n		\n	\n		Today	\n\n\n		\n	\n		\n			Next Events		\n		\n	\n\n	\n\n	\n\n\n		\n	\n		\n			\n				Subscribe to calendar			\n			\n	\n\n		\n		\n			\n									\n\n	\n		Google Calendar	\n\n									\n\n	\n		iCalendar	\n\n									\n\n	\n		Outlook 365	\n\n									\n\n	\n		Outlook Live	\n\n									\n\n	\n		Export .ics file	\n\n									\n\n	\n		Export Outlook .ics file	\n\n							\n		\n	\n\n\n		\n	\n\n\n\n\n 
URL:https://gulf2coast.com/event/dade-city-brew-house-dade-city-0001/2026-04-13/
LOCATION:Dade City Brew House (Dade City)\, 14323 7th St\, Dade City\, FL\, United States
CATEGORIES:* WEST CENTRAL FLORIDA,NATURE COAST,Pasco County
ATTACH;FMTTYPE=image/jpeg:https://gulf2coast.com/wp-content/uploads/2023/08/event-dade-city-brew-house-1.jpg
END:VEVENT
END:VCALENDAR