BEGIN:VCALENDAR
VERSION:2.0
PRODID:-//gulf2coast - ECPv6.15.20//NONSGML v1.0//EN
CALSCALE:GREGORIAN
METHOD:PUBLISH
X-WR-CALNAME:gulf2coast
X-ORIGINAL-URL:https://gulf2coast.com
X-WR-CALDESC:Events for gulf2coast
REFRESH-INTERVAL;VALUE=DURATION:PT1H
X-Robots-Tag:noindex
X-PUBLISHED-TTL:PT1H
BEGIN:VTIMEZONE
TZID:America/New_York
BEGIN:DAYLIGHT
TZOFFSETFROM:-0500
TZOFFSETTO:-0400
TZNAME:EDT
DTSTART:20250309T070000
END:DAYLIGHT
BEGIN:STANDARD
TZOFFSETFROM:-0400
TZOFFSETTO:-0500
TZNAME:EST
DTSTART:20251102T060000
END:STANDARD
BEGIN:DAYLIGHT
TZOFFSETFROM:-0500
TZOFFSETTO:-0400
TZNAME:EDT
DTSTART:20260308T070000
END:DAYLIGHT
BEGIN:STANDARD
TZOFFSETFROM:-0400
TZOFFSETTO:-0500
TZNAME:EST
DTSTART:20261101T060000
END:STANDARD
BEGIN:DAYLIGHT
TZOFFSETFROM:-0500
TZOFFSETTO:-0400
TZNAME:EDT
DTSTART:20270314T070000
END:DAYLIGHT
BEGIN:STANDARD
TZOFFSETFROM:-0400
TZOFFSETTO:-0500
TZNAME:EST
DTSTART:20271107T060000
END:STANDARD
END:VTIMEZONE
BEGIN:VEVENT
DTSTART;TZID=America/New_York:20261003T100000
DTEND;TZID=America/New_York:20261003T190000
DTSTAMP:20260421T070644
CREATED:20260115T180105Z
LAST-MODIFIED:20260115T180105Z
UID:10188311-1791021600-1791054000@gulf2coast.com
SUMMARY:FALL FESTIVAL @ Red House Ranch (Micanopy)
DESCRIPTION:Weekends in October \n\n	\n		\n	\n		2 events found.	\n	\n		\n	\n\n		\n	\n\n		\n	\n\n	\n\n\n		\n		\n\n		\n		\n\n	\n	Events\n\n	\n	\n	\n	\n\n	\n	\n		\n	\n		\n	\n\n	\n\n\n		\n	\n		\n	\n\n	\n\n	\n\n\n	\n	Today\n\n	\n	\n		\n							\n					Now				\n				\n					Now				\n					\n				\n	\n\n	\n	\n		Select date.	\n	\n	\n	\n		\n	\n\n	\n	\n		\n	\n\n	\n\n\n	\n	\n	\n	\n	\n		Condense Events Series	\n\n\n\n\n\n\n		\n		\n\n							\n									\n					\n				\n				\n	\n		Apr 2026	\n\n\n										\n				\n				\n	\n	\n		\n			\n				Tue			\n			\n			21			\n		\n	\n\n	\n								\n	\n\n		\n			\n	\n					\n	8:00 am\n- \n	10:30 am\n			\n		\n\n	\n		\n\n	\n	\n	\n\n	\n\n\n				\n				\n			Breakfast @ Lucky Fish (Pompano Beach)		\n	\n					\n\n	\n\n								\n	\n\n		\n			\n	\n					\n	8:00 am\n- \n	10:30 am\n			\n		\n\n	\n		\n\n	\n	\n	\n\n	\n\n\n				\n				\n			Breakfast @ Lucky Fish (Dania Beach)		\n	\n					\n\n	\n\n			\n\n\n\n											\n			\n		\n\n		\n	\n		\n	\n		\n	\n\n		\n			Previous Events		\n	\n\n\n		\n	\n		Today	\n\n\n		\n	\n		\n			Next Events		\n		\n	\n\n	\n\n	\n\n\n		\n	\n		\n			\n				Subscribe to calendar			\n			\n	\n\n		\n		\n			\n									\n\n	\n		Google Calendar	\n\n									\n\n	\n		iCalendar	\n\n									\n\n	\n		Outlook 365	\n\n									\n\n	\n		Outlook Live	\n\n									\n\n	\n		Export .ics file	\n\n									\n\n	\n		Export Outlook .ics file
URL:https://gulf2coast.com/event/fall-festival-coon-hollo-micanopy/
LOCATION:Red House Ranch (Micanopy)\, 22480 Hwy 441 N\, Micanopy\, Fl\, 32667
CATEGORIES:* NORTH CENTRAL FLORIDA,Alachua County
END:VEVENT
END:VCALENDAR