BEGIN:VCALENDAR
VERSION:2.0
PRODID:-//gulf2coast - ECPv6.15.20//NONSGML v1.0//EN
CALSCALE:GREGORIAN
METHOD:PUBLISH
X-ORIGINAL-URL:https://gulf2coast.com
X-WR-CALDESC:Events for gulf2coast
REFRESH-INTERVAL;VALUE=DURATION:PT1H
X-Robots-Tag:noindex
X-PUBLISHED-TTL:PT1H
BEGIN:VTIMEZONE
TZID:America/New_York
BEGIN:DAYLIGHT
TZOFFSETFROM:-0500
TZOFFSETTO:-0400
TZNAME:EDT
DTSTART:20250309T070000
END:DAYLIGHT
BEGIN:STANDARD
TZOFFSETFROM:-0400
TZOFFSETTO:-0500
TZNAME:EST
DTSTART:20251102T060000
END:STANDARD
BEGIN:DAYLIGHT
TZOFFSETFROM:-0500
TZOFFSETTO:-0400
TZNAME:EDT
DTSTART:20260308T070000
END:DAYLIGHT
BEGIN:STANDARD
TZOFFSETFROM:-0400
TZOFFSETTO:-0500
TZNAME:EST
DTSTART:20261101T060000
END:STANDARD
BEGIN:DAYLIGHT
TZOFFSETFROM:-0500
TZOFFSETTO:-0400
TZNAME:EDT
DTSTART:20270314T070000
END:DAYLIGHT
BEGIN:STANDARD
TZOFFSETFROM:-0400
TZOFFSETTO:-0500
TZNAME:EST
DTSTART:20271107T060000
END:STANDARD
END:VTIMEZONE
BEGIN:VEVENT
DTSTART;TZID=America/New_York:20260701T073000
DTEND;TZID=America/New_York:20260701T220000
DTSTAMP:20260420T043821
CREATED:20260227T021951Z
LAST-MODIFIED:20260227T022014Z
UID:10229054-1782891000-1782943200@gulf2coast.com
SUMMARY:Key Lime Festival (Key West)
DESCRIPTION:July 1st thru 5th \n2026 \n 
URL:https://gulf2coast.com/event/key-lime-festival-key-west/2026-07-01/
CATEGORIES:* SOUTHEAST FLORIDA,Monroe County,THE FLORIDA KEYS
ATTACH;FMTTYPE=image/jpeg:https://gulf2coast.com/wp-content/uploads/2026/02/event-key-lime-festival-key-west.jpg
END:VEVENT
BEGIN:VEVENT
DTSTART;TZID=America/New_York:20260702T073000
DTEND;TZID=America/New_York:20260702T220000
DTSTAMP:20260420T043821
CREATED:20260227T021951Z
LAST-MODIFIED:20260227T022014Z
UID:10229055-1782977400-1783029600@gulf2coast.com
SUMMARY:Key Lime Festival (Key West)
DESCRIPTION:July 1st thru 5th \n2026 \n 
URL:https://gulf2coast.com/event/key-lime-festival-key-west/2026-07-02/
CATEGORIES:* SOUTHEAST FLORIDA,Monroe County,THE FLORIDA KEYS
ATTACH;FMTTYPE=image/jpeg:https://gulf2coast.com/wp-content/uploads/2026/02/event-key-lime-festival-key-west.jpg
END:VEVENT
BEGIN:VEVENT
DTSTART;TZID=America/New_York:20260703T073000
DTEND;TZID=America/New_York:20260703T220000
DTSTAMP:20260420T043821
CREATED:20260227T021951Z
LAST-MODIFIED:20260227T022014Z
UID:10229056-1783063800-1783116000@gulf2coast.com
SUMMARY:Key Lime Festival (Key West)
DESCRIPTION:July 1st thru 5th \n2026 \n 
URL:https://gulf2coast.com/event/key-lime-festival-key-west/2026-07-03/
CATEGORIES:* SOUTHEAST FLORIDA,Monroe County,THE FLORIDA KEYS
ATTACH;FMTTYPE=image/jpeg:https://gulf2coast.com/wp-content/uploads/2026/02/event-key-lime-festival-key-west.jpg
END:VEVENT
BEGIN:VEVENT
DTSTART;TZID=America/New_York:20260704T073000
DTEND;TZID=America/New_York:20260704T220000
DTSTAMP:20260420T043821
CREATED:20260227T021951Z
LAST-MODIFIED:20260227T022014Z
UID:10229057-1783150200-1783202400@gulf2coast.com
SUMMARY:Key Lime Festival (Key West)
DESCRIPTION:July 1st thru 5th \n2026 \n 
URL:https://gulf2coast.com/event/key-lime-festival-key-west/2026-07-04/
CATEGORIES:* SOUTHEAST FLORIDA,Monroe County,THE FLORIDA KEYS
ATTACH;FMTTYPE=image/jpeg:https://gulf2coast.com/wp-content/uploads/2026/02/event-key-lime-festival-key-west.jpg
END:VEVENT
BEGIN:VEVENT
DTSTART;TZID=America/New_York:20260705T073000
DTEND;TZID=America/New_York:20260705T220000
DTSTAMP:20260420T043821
CREATED:20260227T021951Z
LAST-MODIFIED:20260227T022014Z
UID:10229058-1783236600-1783288800@gulf2coast.com
SUMMARY:Key Lime Festival (Key West)
DESCRIPTION:July 1st thru 5th \n2026 \n 
URL:https://gulf2coast.com/event/key-lime-festival-key-west/2026-07-05/
CATEGORIES:* SOUTHEAST FLORIDA,Monroe County,THE FLORIDA KEYS
ATTACH;FMTTYPE=image/jpeg:https://gulf2coast.com/wp-content/uploads/2026/02/event-key-lime-festival-key-west.jpg
END:VEVENT
END:VCALENDAR