BEGIN:VCALENDAR
VERSION:2.0
PRODID:-//gulf2coast - ECPv6.15.20//NONSGML v1.0//EN
CALSCALE:GREGORIAN
METHOD:PUBLISH
X-WR-CALNAME:gulf2coast
X-ORIGINAL-URL:https://gulf2coast.com
X-WR-CALDESC:Events for gulf2coast
REFRESH-INTERVAL;VALUE=DURATION:PT1H
X-Robots-Tag:noindex
X-PUBLISHED-TTL:PT1H
BEGIN:VTIMEZONE
TZID:America/New_York
BEGIN:DAYLIGHT
TZOFFSETFROM:-0500
TZOFFSETTO:-0400
TZNAME:EDT
DTSTART:20250309T070000
END:DAYLIGHT
BEGIN:STANDARD
TZOFFSETFROM:-0400
TZOFFSETTO:-0500
TZNAME:EST
DTSTART:20251102T060000
END:STANDARD
BEGIN:DAYLIGHT
TZOFFSETFROM:-0500
TZOFFSETTO:-0400
TZNAME:EDT
DTSTART:20260308T070000
END:DAYLIGHT
BEGIN:STANDARD
TZOFFSETFROM:-0400
TZOFFSETTO:-0500
TZNAME:EST
DTSTART:20261101T060000
END:STANDARD
BEGIN:DAYLIGHT
TZOFFSETFROM:-0500
TZOFFSETTO:-0400
TZNAME:EDT
DTSTART:20270314T070000
END:DAYLIGHT
BEGIN:STANDARD
TZOFFSETFROM:-0400
TZOFFSETTO:-0500
TZNAME:EST
DTSTART:20271107T060000
END:STANDARD
END:VTIMEZONE
BEGIN:VEVENT
DTSTART;TZID=America/New_York:20260329T100000
DTEND;TZID=America/New_York:20260329T170000
DTSTAMP:20260419T092755
CREATED:20260224T055802Z
LAST-MODIFIED:20260301T104312Z
UID:10104398-1774778400-1774803600@gulf2coast.com
SUMMARY:Uptown Art Expo @ Cranes Roost Park (Altamonte Springs)
DESCRIPTION:Art Festival.  Sunday 10am-5pm\n 
URL:https://gulf2coast.com/event/altamonte-springs-uptown-art-expo-cranes-roost-park-sunday/
LOCATION:Cranes Roost Park (Altamonte Springs)\, 274 Cranes Roost Blvd\, Altamonte Springs\, FL\, 32701\, United States
CATEGORIES:* CENTRAL FLORIDA,Seminole County
ATTACH;FMTTYPE=image/jpeg:https://gulf2coast.com/wp-content/uploads/2026/02/event-uptown-art-expo-altamonte-springs.jpg
END:VEVENT
BEGIN:VEVENT
DTSTART;TZID=America/New_York:20260328T100000
DTEND;TZID=America/New_York:20260328T190000
DTSTAMP:20260419T092755
CREATED:20260224T055817Z
LAST-MODIFIED:20260301T104454Z
UID:10104397-1774692000-1774724400@gulf2coast.com
SUMMARY:Uptown Art Expo @ Cranes Roost Park (Altamonte Springs)
DESCRIPTION:Art Festival. Saturday 10am-7pm\n 
URL:https://gulf2coast.com/event/altamonte-springs-uptown-art-expo-cranes-roost-park-saturday/
LOCATION:Cranes Roost Park (Altamonte Springs)\, 274 Cranes Roost Blvd\, Altamonte Springs\, FL\, 32701\, United States
CATEGORIES:* CENTRAL FLORIDA,Seminole County
ATTACH;FMTTYPE=image/jpeg:https://gulf2coast.com/wp-content/uploads/2026/02/event-uptown-art-expo-altamonte-springs.jpg
END:VEVENT
END:VCALENDAR